BEGIN:VCALENDAR
VERSION:2.0
PRODID:-//40 Aniversario - Universidad de León - ECPv4.9.10//NONSGML v1.0//EN
CALSCALE:GREGORIAN
METHOD:PUBLISH
X-WR-CALNAME:40 Aniversario - Universidad de León
X-ORIGINAL-URL:https://40aniversario.unileon.es
X-WR-CALDESC:Eventos para 40 Aniversario - Universidad de León
BEGIN:VTIMEZONE
TZID:Europe/Madrid
BEGIN:DAYLIGHT
TZOFFSETFROM:+0100
TZOFFSETTO:+0200
TZNAME:CEST
DTSTART:20190331T010000
END:DAYLIGHT
BEGIN:STANDARD
TZOFFSETFROM:+0200
TZOFFSETTO:+0100
TZNAME:CET
DTSTART:20191027T010000
END:STANDARD
END:VTIMEZONE
BEGIN:VEVENT
DTSTART;TZID=Europe/Madrid:20191015T000000
DTEND;TZID=Europe/Madrid:20191015T140000
DTSTAMP:20260421T054002
CREATED:20191010T095135Z
LAST-MODIFIED:20191014T092326Z
UID:680-1571097600-1571148000@40aniversario.unileon.es
SUMMARY:El ingeniero en la sociedad del siglo XXI
DESCRIPTION:\n				\n				\n				\n				\n					\n				\n				\n				\n				\n				\n				\n				El próximo 15 de octubre a las 12:00 h\, la Sala Gordón Ordás del Edificio de Rectorado de la Universidad de León acoge unas jornadas relativas al papel del ingeniero en la actualidad. \nCon esta Jornada se pretende dar a conocer las distintas perspectivas profesionales de los ingenieros\, las funciones que llevan a cabo los Colegios Profesionales\, así como los campos de desarrollo futuro para los alumnos y egresados de estas titulaciones. \nEn este mismo evento también se realizará la presentación del concurso para distinciones a la excelencia de alumnos en prácticas de ingenierías que convoca el Instituto de España de la Ingeniería\, en colaboración con Ineco. \nEl evento contará con la participación de: \n\nÁngel San Segundo. Comité de Universidad\, Formación y Empresa del Instituto de la Ingeniería de España.\nFrancisco Javier Guerrero. Presidente de la Asociación de Colegios Profesionales de León-COLPROLEON.\nAna Isabel Rojo Calderón. Directora General de Ingeniería y Consultoría de Ineco.\nAntonio Bernardo Sánchez. Director Escuela Superior y Técnica de Ingenieros de Minas.\nPedro José Aguado Rodríguez. Director Escuela de Ingeniería Agraria y Forestal.\nJoaquín Barreiro García. Director Escuela de Ingenierías Industrial\, Informática y Aeroespacial.\n\nLa clausura que pondrá fin a esta jornada será realizada por el Excmo. Sr. Rector Mgfco. de la Universidad de León a las 14:00 h en la propia Sala Gordón Ordás. \n			 \n			 \n				\n				\n			 \n				\n				\n			 \n
URL:https://40aniversario.unileon.es/eventos/el-ingeniero-en-la-sociedad-del-siglo-xxi/
LOCATION:Edificio de Rectorado\, Av. Facultad de Veterinaria\, 25\, León\, León\, 24004\, Spain
ATTACH;FMTTYPE=image/jpeg:https://40aniversario.unileon.es/wp-content/uploads/2019/10/1280px-Rectorado_unileon.jpg
END:VEVENT
END:VCALENDAR